BEGIN:VCALENDAR
VERSION:2.0
PRODID:-//Kaiser Friedrich Bootstouren - ECPv6.11.0.1//NONSGML v1.0//EN
CALSCALE:GREGORIAN
METHOD:PUBLISH
X-WR-CALNAME:Kaiser Friedrich Bootstouren
X-ORIGINAL-URL:https://kaiserfriedrich.berlin
X-WR-CALDESC:Veranstaltungen für Kaiser Friedrich Bootstouren
REFRESH-INTERVAL;VALUE=DURATION:PT1H
X-Robots-Tag:noindex
X-PUBLISHED-TTL:PT1H
BEGIN:VTIMEZONE
TZID:Europe/Berlin
BEGIN:DAYLIGHT
TZOFFSETFROM:+0100
TZOFFSETTO:+0200
TZNAME:CEST
DTSTART:20250330T010000
END:DAYLIGHT
BEGIN:STANDARD
TZOFFSETFROM:+0200
TZOFFSETTO:+0100
TZNAME:CET
DTSTART:20251026T010000
END:STANDARD
END:VTIMEZONE
BEGIN:VEVENT
DTSTART;TZID=Europe/Berlin:20250719T193000
DTEND;TZID=Europe/Berlin:20250720T010000
DTSTAMP:20260421T170549
CREATED:20250517T163916Z
LAST-MODIFIED:20250517T163917Z
UID:10000269-1752953400-1752973200@kaiserfriedrich.berlin
SUMMARY:BOHÈME SAUVAGE IV
DESCRIPTION:Else Edelstahl & Kaiser Friedrich präsentieren\nBOHÈME SAUVAGE AUF DER SPREE\nBohème Sauvage ist eine Hommage an das wilde Berliner Nachtleben der Zwanziger Jahre. Sie ist ein rauschendes Fest für alle\, die kein(en) Morgen kennen\, die jede Nacht so zelebrieren\, als wäre es die letzte.\nBohème Sauvage ist moderne Nostalgie. Es wird getanzt und gefeiert\, geflirtet und parliert.\nMit einer detailreichen Atmosphäre und einem glamourösen Bühnenprogramm sind Sie eingeladen zu einem glanzvollen und schillernden Fest voller Amusements und Divertissements.
URL:https://kaiserfriedrich.berlin/event/boheme-sauvage-3/
LOCATION:Schiff Kaiser Friedrich\, Märkisches Ufer 1z\, Historischer Hafen Berlin\, Berlin\, Berlin\, 10179\, Germany
ATTACH;FMTTYPE=image/avif:https://kaiserfriedrich.berlin/wp-content/uploads/2025/04/BS-auf-der-Spree34s.jpg.avif
ORGANIZER;CN="Kaiser Friedrich":MAILTO:Ahoi@kaiserfriedrich.berlin
END:VEVENT
BEGIN:VEVENT
DTSTART;TZID=Europe/Berlin:20250705T193000
DTEND;TZID=Europe/Berlin:20250706T010000
DTSTAMP:20260421T170549
CREATED:20250517T163703Z
LAST-MODIFIED:20250517T163840Z
UID:10000268-1751743800-1751763600@kaiserfriedrich.berlin
SUMMARY:BOHÈME SAUVAGE III (Ausverkauft!)
DESCRIPTION:Else Edelstahl & Kaiser Friedrich präsentieren\nBOHÈME SAUVAGE AUF DER SPREE\nBohème Sauvage ist eine Hommage an das wilde Berliner Nachtleben der Zwanziger Jahre. Sie ist ein rauschendes Fest für alle\, die kein(en) Morgen kennen\, die jede Nacht so zelebrieren\, als wäre es die letzte.\nBohème Sauvage ist moderne Nostalgie. Es wird getanzt und gefeiert\, geflirtet und parliert.\nMit einer detailreichen Atmosphäre und einem glamourösen Bühnenprogramm sind Sie eingeladen zu einem glanzvollen und schillernden Fest voller Amusements und Divertissements.
URL:https://kaiserfriedrich.berlin/event/boheme-sauvage-2/
LOCATION:Schiff Kaiser Friedrich\, Märkisches Ufer 1z\, Historischer Hafen Berlin\, Berlin\, Berlin\, 10179\, Germany
ATTACH;FMTTYPE=image/avif:https://kaiserfriedrich.berlin/wp-content/uploads/2025/04/BS-auf-der-Spree34s.jpg.avif
ORGANIZER;CN="Kaiser Friedrich":MAILTO:Ahoi@kaiserfriedrich.berlin
END:VEVENT
END:VCALENDAR