BEGIN:VCALENDAR
VERSION:2.0
PRODID:-//Kaiser Friedrich Bootstouren - ECPv6.11.0.1//NONSGML v1.0//EN
CALSCALE:GREGORIAN
METHOD:PUBLISH
X-WR-CALNAME:Kaiser Friedrich Bootstouren
X-ORIGINAL-URL:https://kaiserfriedrich.berlin
X-WR-CALDESC:Veranstaltungen für Kaiser Friedrich Bootstouren
REFRESH-INTERVAL;VALUE=DURATION:PT1H
X-Robots-Tag:noindex
X-PUBLISHED-TTL:PT1H
BEGIN:VTIMEZONE
TZID:Europe/Berlin
BEGIN:DAYLIGHT
TZOFFSETFROM:+0100
TZOFFSETTO:+0200
TZNAME:CEST
DTSTART:20250330T010000
END:DAYLIGHT
BEGIN:STANDARD
TZOFFSETFROM:+0200
TZOFFSETTO:+0100
TZNAME:CET
DTSTART:20251026T010000
END:STANDARD
END:VTIMEZONE
BEGIN:VEVENT
DTSTART;TZID=Europe/Berlin:20250624T200000
DTEND;TZID=Europe/Berlin:20250624T230000
DTSTAMP:20260421T210105
CREATED:20250624T112400Z
LAST-MODIFIED:20250624T112414Z
UID:10000284-1750795200-1750806000@kaiserfriedrich.berlin
SUMMARY:Feierabend im Insel-Salon
DESCRIPTION:Unsere beliebte wöchentliche Reihe. Ein Abend mit Musik und Austausch. \n\nDiesmal folgender Inhalt: \nOlympia – eine Chance für Berlin und Deutschland? \nIst die Bewerbung Berlins für die Olympischen Spiele eine Chance oder ein Risiko für die Stadt? Einerseits könnte die Veranstaltung den Tourismus und die Wirtschaft ankurbeln. Andererseits stellt sich die Frage\, ob die hohen Kosten und der Bau neuer Infrastruktur gerechtfertigt sind\, insbesondere in Zeiten knapper Kassen. Wie wird die Bevölkerung von den Spielen profitieren? Gibt es genügend Unterstützung für diese Initiative? Schließlich könnte der Olympische Geist auch langfristige soziale und kulturelle Vorteile bringen\, doch sind diese wirklich messbar und nachhaltig? Über diese und weitere Fragen diskutieren Friedhard Teuffel\, Direktor des Landessportbunds Berlin\, und Lorenz Maroldt\, Herausgeber des Tagesspiegel\, auf dem ältesten Fahrgastschiff Berlins. Wir freuen uns auf Dich! \n  \n\n*Info: das Schiff Kaiser Friedrich liegt im historischen Hafen an der selben Stelle wie unser bisheriger Salon.\nWichtig zu wissen: um an Bord zu kommen\, müsst ihr ein anderes Schiff überqueren. Der Zugang ist daher leider nicht barrierefrei.
URL:https://kaiserfriedrich.berlin/event/30298-3-4/
LOCATION:Schiff Kaiser Friedrich\, Märkisches Ufer 1z\, Historischer Hafen Berlin\, Berlin\, Berlin\, 10179\, Germany
CATEGORIES:Insel-Salon
ATTACH;FMTTYPE=image/png:https://kaiserfriedrich.berlin/wp-content/uploads/2025/06/Feierabend-im-Inselsalon-1.png
ORGANIZER;CN="Kaiser Friedrich":MAILTO:Ahoi@kaiserfriedrich.berlin
END:VEVENT
BEGIN:VEVENT
DTSTART;TZID=Europe/Berlin:20250617T200000
DTEND;TZID=Europe/Berlin:20250617T230000
DTSTAMP:20260421T210105
CREATED:20250615T165437Z
LAST-MODIFIED:20250615T165438Z
UID:10000283-1750190400-1750201200@kaiserfriedrich.berlin
SUMMARY:Feierabend im Insel-Salon
DESCRIPTION:Unsere beliebte wöchentliche Reihe. Ein Abend mit Musik und Austausch. \n\nDiesmal folgender Inhalt: \nBrasilianischer Abend mit dem Gesandten Paulo Gustavo Iansen de Sant’Ana \nAm 17. Juni laden wir Euch herzlich ein\, Brasilien hautnah zu erleben! Der Gesandte der brasilianischen Botschaft\, Paulo Gustavo lansen de Sant’Ana\, und Lorenz Maroldt\, Herausgeber des Tagesspiegel\, werden uns im Gespräch in dieses faszinierende Land begleiten. Lasst Euch von persönlichen Geschichten über die einzigartige Natur\, die Lebensfreude des Karnevals und die Leidenschaft für Fußball begeistern. Taucht ein in die politischen Visionen von Präsident Lula zur Bekämpfung von Armut und sozialer Ungleichheit – Themen\, die auch Deutschland bewegen. \nWir freuen uns auf Euch! \n\n*Info: das Schiff Kaiser Friedrich liegt im historischen Hafen an der selben Stelle wie unser bisheriger Salon.\nWichtig zu wissen: um an Bord zu kommen\, müsst ihr ein anderes Schiff überqueren. Der Zugang ist daher leider nicht barrierefrei.
URL:https://kaiserfriedrich.berlin/event/30298-3-3/
LOCATION:Schiff Kaiser Friedrich\, Märkisches Ufer 1z\, Historischer Hafen Berlin\, Berlin\, Berlin\, 10179\, Germany
CATEGORIES:Insel-Salon
ATTACH;FMTTYPE=image/png:https://kaiserfriedrich.berlin/wp-content/uploads/2025/06/Feierabend-im-Inselsalon-1.png
ORGANIZER;CN="Kaiser Friedrich":MAILTO:Ahoi@kaiserfriedrich.berlin
END:VEVENT
BEGIN:VEVENT
DTSTART;TZID=Europe/Berlin:20250613T190000
DTEND;TZID=Europe/Berlin:20250613T220000
DTSTAMP:20260421T210105
CREATED:20250406T153454Z
LAST-MODIFIED:20250610T164728Z
UID:10000271-1749841200-1749852000@kaiserfriedrich.berlin
SUMMARY:Soundwaves 2 - Leonard Wellington invites Gavriel and Zaidi Bangz
DESCRIPTION:English translation below! Tickets here! \n\nNach dem ausverkauften Konzert im letzten Sommer sind wir wieder auf dem Wasser! \nSei bei den ersten SOUNDWAVES der Saison dabei – ein intimer Abend mit Live-Musik und Tanz bis spät in die Nacht\, der auf der Spree durch Berlin treiben wird. \nLive-Auftritte von Leonard Wellington\, Gavriel August und Zaidi Bangz werden die goldene Stunde mit einer Mischung aus experimentellen Klängen\, Indie- und Alt-Rock und rohen Performances untermalen. Wenn die Sonne untergeht und die Lichter der Stadt aufflackern\, übernimmt DJ Office Slut das Deck mit einem Set\, das auf Bewegung ausgelegt ist – spielerisch\, überraschend und mit genau der richtigen Portion Chaos. \nBegrenzte Plätze. Sichere Dir jetzt Dein Ticket! \nTickets gibt es hier! \n\nAfter last summer’s sold-out voyage\, we’re back on the water! \nJoin us for the first SOUNDWAVES of the season – an intimate evening of live music and late-night dancing\, drifting through Berlin on the Spree. \nLive performances from Leonard Wellington\, Gavriel August and Zaidi Bangz will soundtrack the golden hour with a blend of experimental sounds\, indie and alt-rock\, and raw performances. As the sun sets and the city lights flicker on\, DJ Office Slut takes over deck duties with a set built for movement – playful\, surprising\, and just the right amount of chaos. \nLimited spots. Don’t miss the boat. \nTickets here!
URL:https://kaiserfriedrich.berlin/event/leonard-wellington/
LOCATION:Kaiser Friedrich\, Abfahrt: Alte Börse\, Burgstraße 27\, Berlin\, Berlin\, 10178\, Germany
CATEGORIES:Konzerte
ATTACH;FMTTYPE=image/jpeg:https://kaiserfriedrich.berlin/wp-content/uploads/2025/04/WhatsApp-Image-2025-06-03-at-11.45.19.jpeg
ORGANIZER;CN="Kaiser Friedrich":MAILTO:Ahoi@kaiserfriedrich.berlin
END:VEVENT
BEGIN:VEVENT
DTSTART;TZID=Europe/Berlin:20250606T173000
DTEND;TZID=Europe/Berlin:20250606T213000
DTSTAMP:20260421T210105
CREATED:20250517T155551Z
LAST-MODIFIED:20250520T191944Z
UID:10000273-1749231000-1749245400@kaiserfriedrich.berlin
SUMMARY:Dub Dampfer III
DESCRIPTION:English translation below! Tickets here! \n\n\nAuf in die nächste Runde! Wer hätte gedacht\, dass der Kaiser das auf seine alten Tage noch erleben darf. Nachdem es beim letzten mal so schön war\, lassen wir es uns nicht nehmen\, eine Wiederholungsrunde mit frischen Beats zu drehen. \nIMAGINE Dub auf Berlins ältestem Dampfer\, der „Kaiser Friedrich“ von 1886\, jetzt mit Battery-Antrieb! \nWir\, die Kaiser Friedrich und die Dubbing You Familie\, präsentieren Euch einen unvergesslichen Moment: Fahrt durch die Berliner Innenstadt und hört dabei Dub\, vorgetragen von einigen der besten Vinylsüchtigen der Stadt …powered by Superpower Soundsystem! \n30 € Erwachsene / 20 € ermäßigt für Flüchtlinge\, Studenten und Menschen\, die derzeit arbeitslos sind. \nWenn die Fahrt nicht ausverkauft ist\, kann man an Bord ein Ticket kaufen. Allerdings sind die Tickets begrenzt\, sodass eine Vorbestellung dringend empfohlen wird! \nAlso\, steigt ein und lasst uns zusammen einen unvergesslichen Tag erleben! \nTickets hier! \n\nOn to the next round! Who would have thought that the Kaiser would live to see this in his old age. After it was so nice last time\, we won’t miss the chance to do a repeat round with fresh beats. \nIMAGINE Dub on Berlin’s oldest steamer\, the “Kaiser Friedrich” from 1886\, now with battery propulsion! \nWe\, the Kaiser Friedrich and the Dubbing You family\, present you an unforgettable moment: ride through Berlin’s city center and listen to Dub\, performed by some of the best vinyl addicts in town …powered by Superpower Soundsystem! \n30 € adults / 20 € reduced for refugees\, students and people who are currently unemployed. \nIf the ride is not sold out\, you can buy a ticket on board. However\, tickets are limited\, so advance booking is strongly recommended! \nSo\, get on board and let’s experience an unforgettable day together! \nTickets here!
URL:https://kaiserfriedrich.berlin/event/dub-dampfer-iii/
LOCATION:Kaiser Friedrich\, Abfahrt: Reederei Haydinski\, Anna-Louisa-Karsch-Straße 2\, Berlin\, 10178\, Germany
CATEGORIES:Partys & Events
ATTACH;FMTTYPE=image/png:https://kaiserfriedrich.berlin/wp-content/uploads/2025/05/Screenshot-2025-05-20-at-21.08.37.png
ORGANIZER;CN="Kaiser Friedrich":MAILTO:Ahoi@kaiserfriedrich.berlin
END:VEVENT
BEGIN:VEVENT
DTSTART;TZID=Europe/Berlin:20250605T190000
DTEND;TZID=Europe/Berlin:20250605T213000
DTSTAMP:20260421T210105
CREATED:20250526T160511Z
LAST-MODIFIED:20250526T160521Z
UID:10000295-1749150000-1749159000@kaiserfriedrich.berlin
SUMMARY:Alt-Berliner JAZZabend - Musikalische Fahrt in den Sonnenuntergang
DESCRIPTION:Kreuzberger Nächte sind lang! Unsere Abendfahrten durch Berlin hallen diesmal noch besonders lange nach: Heute und jeden letzten Donnerstag im Monat fahren wir mit exquisiter Begleitung durch ein Jazz-Ensemble aus Markus Ehrlichs flexibler Eingreiftruppe – einer im Fluss begriffenen Formation\, die mit wechselnden Programmen\, eigenen Arrangements und variierender Besetzung für ein Musikerlebnis der stets unvorhersehbaren Art sorgt. \nIm Lauf der Jahre hat das Kollektiv dadurch eine unvergleichliche Dynamik entwickelt\, die es im Blindflug miteinander musizieren lässt. Das Ergebnis ist ein famos energiegeladener Sound\, der ins Ohr und in die Beine geht und zugleich eindrucksvoll beweist\, dass diese Combo rundheraus liebt\, was sie tut. \nDas Einzige\, was feststeht: Der Funke springt über und landet punktgenau (natürlich nur im sprichwörtlichen Sinne :). \nDiese Begleitung spielt für Euch auf\, während die Lichter Berlins an Euch vorbeiziehen. Bei unserer beliebten Tour tauchen wir ein ins Partyherz Berlins\, passieren Holzmarkt 25\, die Oberbaumbrücke\, das Badeschiff und die Hoppetosse. \nNach unserer Tour durch den wilden Osten fahren wir westwärts\, um uns in der historischen Altstadt eine gehörige Portion der obligatorischen Romantik abzuholen. In Alt-Berlin ziehen wir vorbei an Bars und Restaurants auf dem Schiffbauerdamm und durchs Regierungsviertel. \nOben leuchten die Sterne. Unten leuchten wir. \n  \nTour Stopps: \nAnlegestelle Alte Börse (Burgstraße 27) Abfahrtszeit 19 Uhr \nAnlegestelle Alte Börse (Burgstraße 27) Ankunft 21.30 Uhr
URL:https://kaiserfriedrich.berlin/event/alt-berliner-jazzabend-musikalische-fahrt-in-den-sonnenuntergang/
LOCATION:Kaiser Friedrich\, Abfahrt: Alte Börse\, Burgstraße 27\, Berlin\, Berlin\, 10178\, Germany
CATEGORIES:Konzerte
ATTACH;FMTTYPE=image/png:https://kaiserfriedrich.berlin/wp-content/uploads/2025/05/Screenshot-2025-05-26-at-13.39.14.png
ORGANIZER;CN="Kaiser Friedrich":MAILTO:Ahoi@kaiserfriedrich.berlin
END:VEVENT
BEGIN:VEVENT
DTSTART;TZID=Europe/Berlin:20250603T200000
DTEND;TZID=Europe/Berlin:20250603T230000
DTSTAMP:20260421T210105
CREATED:20250601T143439Z
LAST-MODIFIED:20250601T145406Z
UID:10000281-1748980800-1748991600@kaiserfriedrich.berlin
SUMMARY:Feierabend im Insel-Salon - Buchlesung "Kosakenberg" und Autorinnengespräch
DESCRIPTION:Unsere beliebte wöchentliche Reihe. Ein Abend mit Musik und Austausch. \nDiesmal: Lesung aus dem Roman „Kosakenberg“ und anschließendes Gespräch mit Autorin Sabine Rennefanz. \nWas ist Heimat und wie lässt man die Provinz hinter sich? Davon erzählt Sabine Rennefanz voller Ironie und Melancholie. \nGenießt mit der Autorin und Lorenz Maroldt einen besonderen Abend im Historischen Hafen auf dem \n„schwimmenden Biergarten“ Kaiser-Friedrich\, dem ältesten Fahrgastschiff Berlins. \nWir freuen uns auf Euch! \n\n*Info: das Schiff Kaiser Friedrich liegt im historischen Hafen an der selben Stelle wie unser bisheriger Salon.\nWichtig zu wissen: um an Bord zu kommen\, müsst ihr ein anderes Schiff überqueren. Der Zugang ist daher leider nicht barrierefrei.
URL:https://kaiserfriedrich.berlin/event/30298-3-2/
LOCATION:Schiff Kaiser Friedrich\, Märkisches Ufer 1z\, Historischer Hafen Berlin\, Berlin\, Berlin\, 10179\, Germany
CATEGORIES:Insel-Salon
ATTACH;FMTTYPE=image/png:https://kaiserfriedrich.berlin/wp-content/uploads/2025/06/Feierabend-im-Inselsalon-1.png
ORGANIZER;CN="Kaiser Friedrich":MAILTO:Ahoi@kaiserfriedrich.berlin
END:VEVENT
BEGIN:VEVENT
DTSTART;TZID=Europe/Berlin:20250530T190000
DTEND;TZID=Europe/Berlin:20250530T213000
DTSTAMP:20260421T210105
CREATED:20250404T185924Z
LAST-MODIFIED:20250526T154218Z
UID:10000265-1748631600-1748640600@kaiserfriedrich.berlin
SUMMARY:Daiana Lou
DESCRIPTION:English translation below! – Tickets here! \n\nDaiana Lou ist eine italienisch-berlinerische Alternative-Rock-Band. Seit 10 Jahren machen sie Musik auf den Straßen der Hauptstadt\, und verwandeln mit ihren elektrisierenden Auftritten Berliner Kult-Orte wie den Mauerpark und den Alexanderplatz. Von den Bürgersteigen Berlins haben sie sich ihren Weg in einige der renommiertesten Clubs der Stadt gebahnt – Cassiopeia\, Yaam\, Badehaus\, Columbia Theater\, Bi Nuu – und können auf viele ausverkaufte Shows zurückblicken. \nIhre Live-Performance ist eine intensive Mischung aus Rock-Explosionen\, ätherischen Momenten\, Zeitverschiebungen und clubtauglichen Beats\, angeführt von Daianas Stimme\, die das Publikum auf eine introspektive Reise mitnimmt\, die noch lange nachklingt\, wenn die Musik verklungen ist. \nTickets hier! \n\nDaiana Lou is an Italian-Berlin alternative rock band. They have been making music on the streets of the capital for 10 years\, transforming iconic Berlin venues such as Mauerpark and Alexanderplatz with their electrifying performances. From the sidewalks of Berlin\, they have made their way into some of the city’s most renowned clubs – Cassiopeia\, Yaam\, Badehaus\, Columbia Theater\, Bi Nuu – and can look back on many sold-out shows. \nTheir live performance is an intense mix of rock explosions\, ethereal moments\, time shifts and club-ready beats\, led by Daiana’s voice\, which takes the audience on an introspective journey that lingers long after the music has faded. \nTickets here! \n\nAbfahrt/Ankunft: \nAnlegestelle „Alte Börse“\, Burgstraße 27\, 10178 Berlin
URL:https://kaiserfriedrich.berlin/event/daiana-lou/
LOCATION:Kaiser Friedrich\, Abfahrt: Alte Börse\, Burgstraße 27\, Berlin\, Berlin\, 10178\, Germany
CATEGORIES:Konzerte
ATTACH;FMTTYPE=image/jpeg:https://kaiserfriedrich.berlin/wp-content/uploads/2025/04/33edd9e5-2966-89b8-608a-58e7b59c13d4.jpg
ORGANIZER;CN="Kaiser Friedrich":MAILTO:Ahoi@kaiserfriedrich.berlin
END:VEVENT
BEGIN:VEVENT
DTSTART;TZID=Europe/Berlin:20250516T193000
DTEND;TZID=Europe/Berlin:20250516T230000
DTSTAMP:20260421T210105
CREATED:20250404T144546Z
LAST-MODIFIED:20250509T180448Z
UID:10000003-1747423800-1747436400@kaiserfriedrich.berlin
SUMMARY:Die Wallerts (Ausverkauft!)
DESCRIPTION:AUSVERKAUFT!\nDie Wallerts – Konzerte\nWir sind Live-Tiere. Auf unseren Konzerten geht es heiß her. Kaltes Bier auf der Bühne gehört ebenso dazu wie warme Branntweingetränke im Publikum. Schweiß tropft von der Decke\, Groupies fliegen durch die Luft – erlebt es selbst! \n\nDie Wallerts\nHumppa aus Berlin\nWir machen Humppa! Seit unserer Gründung 2004 proben wir das maximal einmal die Woche in unserem Berliner Kohlen-Keller. Anfangs spielten wir zum Vergnügen auf Privatpartys für ein paar Bier oder waren als Straßenband unterwegs\, heute füllen wir regelmäßig die Tanzlokale der Stadt. Unsere Mission ist seither nicht einfach: Spaß haben\, Tanzen\, die Sau rauslassen und zusammen einen heben. \nHumppa\, die finnische Version der Polka\, ist unsere sichere Methode\, die Sau rauszulassen. \nDie Humppa-Institution in Berlin\nMittlerweile sind wir die Institution für Humppa in Berlin. Wir spielen so ziemlich jeden Hit des Erdballs im finnischen Humppa-Offbeat und hinterlassen dabei ein Meer der Glückseeligkeit. Wer noch nie erlebt hat\, wie ein Publikum schon beim ersten Takt eines Konzertes in Begeisterung verfällt\, hat noch kein Konzert der Wallerts erlebt. \n  \n\nAbfahrt \nReederei Haydinski\nAnna-Louisa-Karsch-Straße 2\, 10178 Berlin\, Deutschland
URL:https://kaiserfriedrich.berlin/event/die-wallerts/
LOCATION:Kaiser Friedrich\, Abfahrt: Reederei Haydinski\, Anna-Louisa-Karsch-Straße 2\, Berlin\, 10178\, Germany
CATEGORIES:Konzerte
ATTACH;FMTTYPE=image/jpeg:https://kaiserfriedrich.berlin/wp-content/uploads/2025/04/die_wallerts.jpg
ORGANIZER;CN="Kaiser Friedrich":MAILTO:Ahoi@kaiserfriedrich.berlin
END:VEVENT
BEGIN:VEVENT
DTSTART;TZID=Europe/Berlin:20250401T193000
DTEND;TZID=Europe/Berlin:20250401T223000
DTSTAMP:20260421T210105
CREATED:20250331T131200Z
LAST-MODIFIED:20250331T203803Z
UID:10000001-1743535800-1743546600@kaiserfriedrich.berlin
SUMMARY:Feierabend im Insel-Salon
DESCRIPTION:Nach einer kleinen Pause sind wir zurück – und starten an einem neuen\, besonderen Ort: dem historischen Fahrgastschiff Kaiser-Friedrich.\nSeit fast 150 Jahren unterwegs\, jetzt vollelektrisch – und in den kommenden Frühlings- und Sommermonaten das neue Zuhause des Insel-Salons. \nZum Auftakt am 1. April 2025 erwartet euch ein Abend mit Musik und Austausch: \n  \nGeorgie Fisher [@georgiefishermusic] bringt ihre Gitarre mit – und eine Stimme\, bei der man gerne verweilt. \nJacqueline Macaulay [@macaulayjacqueline] und Hans-Werner Meyer [@hanswernermeyer] diskutieren mit Lorenz Maroldt (Tagesspiegel) über eine zentrale Frage: „Was ist uns unsere Kultur wert?“ \n  \nDas Team Insel-Salon lädt euch herzlich ein\, gemeinsam die neue Saison in entspannter Atmosphäre einzuläuten . \n🎟️ Eintritt frei \n  \n🚢 P.S.: Der Insel-Salon bleibt im Historischen Hafen am Märkischen Ufer 1z – nur das Schiff ist neu. Ab sofort findet ihr uns auf der Kaiser-Friedrich\, die an derselben Stelle liegt wie unser bisheriger Salon. \nWichtig zu wissen: Um an Bord zu kommen\, müsst ihr ein anderes Schiff überqueren. Der Zugang ist daher leider nicht barrierefrei.
URL:https://kaiserfriedrich.berlin/event/testveranstaltung/
LOCATION:Schiff Kaiser Friedrich\, Märkisches Ufer 1z\, Historischer Hafen Berlin\, Berlin\, Berlin\, 10179\, Germany
ATTACH;FMTTYPE=image/png:https://kaiserfriedrich.berlin/wp-content/uploads/2025/03/Bildschirmfoto-2025-03-31-um-22.29.37.png
ORGANIZER;CN="Kaiser Friedrich":MAILTO:Ahoi@kaiserfriedrich.berlin
END:VEVENT
END:VCALENDAR